BEGIN:VCALENDAR
VERSION:2.0
PRODID:-//Squarespace Inc/Squarespace 6//v6//EN
BEGIN:VEVENT
UID:56dafc1df85082e7fcc229c2@squarespace.com
DTSTAMP:20160305T155624Z
DTSTART:20160610T130000Z
DTEND:20160610T220000Z
SUMMARY:Friday 10th June
GEO:51.438798;-9.492261
LOCATION:Cape Clear
END:VEVENT
END:VCALENDAR
