BEGIN:VCALENDAR
VERSION:2.0
PRODID:-//Squarespace Inc/Squarespace 6//v6//EN
BEGIN:VEVENT
UID:56daf82ecf80a1b2c9a1b491@squarespace.com
DTSTAMP:20160305T155644Z
DTSTART:20160611T080000Z
DTEND:20160612T010000Z
SUMMARY:Saturday 11th June
GEO:51.438798;-9.492261
LOCATION:Cape Clear
END:VEVENT
END:VCALENDAR
